BEGIN:VCALENDAR
VERSION:2.0
PRODID:gruene-gerbrunn.de
METHOD:PUBLISH
BEGIN:VTIMEZONE
TZID:Europe/Berlin
X-LIC-LOCATION:Europe/Berlin
BEGIN:DAYLIGHT
TZOFFSETFROM:+0100
TZOFFSETTO:+0200
TZNAME:CEST
DTSTART:19700329T020000
RRULE:FREQ=YEARLY;INTERVAL=1;BYDAY=-1SU;BYMONTH=3
END:DAYLIGHT
BEGIN:STANDARD
TZOFFSETFROM:+0200
TZOFFSETTO:+0100
TZNAME:CET
DTSTART:19701025T030000
RRULE:FREQ=YEARLY;INTERVAL=1;BYDAY=-1SU;BYMONTH=10
END:STANDARD
END:VTIMEZONE
BEGIN:VEVENT
UID:0baabeec295b2eef59b916cf3da9a44f@gruene-gerbrunn.de
URL;VALUE=URI:https://gruene-gerbrunn.de/termine/die-waermepumpe-alles-wa
 s-sie-schon-immer-darueber-wissen-wollten/
LOCATION:Alte Feuerwehr, Hauptstraße 7, Gerbrunn
SUMMARY:Die Wärmepumpe – Alles was Sie schon immer darüber wissen wol
 lten
DESCRIPTION;ALTREP="data:text/html,%0A%3Cp%3E%3C%2Fp%3E%0A%0A%0A%0A%3Cp%3
 E%3Cem%3EKann%20mein%20Haus%20W%C3%A4rmepumpe%3F%3C%2Fem%3E%20Von%20der%2
 0Funktionsweise%20%C3%BCber%20die%20Machbarkeit%20in%20den%20eigenen%20vi
 er%20W%C3%A4nden%20bis%20hin%20zu%20Einbauplanung%20und%20aktuellen%20F%C
 3%B6rderoptionen%20%E2%80%93%20zwei%20Gerbrunner%20Energieberater%20beleu
 chten%20die%20wichtigsten%20Aspekte%20klimafreundlichen%20Heizens%20und%2
 0stellen%20sich%20Ihren%20Fragen.%20Freuen%20Sie%20sich%20mit%20uns%20auf
 %20einen%20informativen%20Abend%20in%20der%20Alten%20Feuerwehr.%3C%2Fp%3E
 %0A%0A%0A%0A%3Cfigure%20class%3D%22wp-block-image%20size-large%22%3E%3Cim
 g%20src%3D%22https%3A%2F%2Fgruene-gerbrunn.de%2Fwp-content%2Fuploads%2Fsi
 tes%2F52%2F2026%2F02%2Fsharepic-Waermepumpe2026-2s-768x1024.jpg%22%20alt%
 3D%22%22%20class%3D%22wp-image-1260%22%20%2F%3E%3C%2Ffigure%3E%0A":Kann m
 ein Haus Wärmepumpe? Von der Funktionsweise über die Machbarkeit in den
  eigenen vier Wänden bis hin zu Einbauplanung und aktuellen Förderoptio
 nen – zwei Gerbrunner Energieberater beleuchten die wichtigsten Aspekte
  klimafreundlichen Heizens und stellen sich Ihren Fragen. Freuen Sie sich
  mit uns auf einen informativen Abend in der Alten Feuerwehr.
CLASS:PUBLIC
DTSTART;TZID=Europe/Berlin:20260428T190000
DTEND;TZID=Europe/Berlin:20260428T200000
DTSTAMP:20260423T115856
END:VEVENT
BEGIN:VEVENT
UID:39b49115481196876e56301c54e6f81c@gruene-gerbrunn.de
URL;VALUE=URI:https://gruene-gerbrunn.de/termine/hallo-nachbar-besuch-des
 -steinhauermuseums/
LOCATION:Historischer Mönchshof, Mönchshof 1, Randersacker
SUMMARY:Hallo Nachbar – Besuch des Steinhauermuseums
DESCRIPTION;ALTREP="data:text/html,%0A%3Cp%3EBesuch%20des%20Steinhauermus
 eums%20im%20historischen%20M%C3%B6nchshof%20in%20Randersacker%3Cbr%3E%C3%
 9Cber%20Jahrhunderte%20hinweg%20pr%C3%A4gte%20das%20Steinhauen%20Leben%20
 und%20Arbeit%20der%20Menschen%20in%20unserer%20Nachbargemeinde%20Randersa
 cker.%20Museumsf%C3%BChrung%20mit%20Zunftleiter%20Ralf%20Kuhn%20in%20der%
 20Reihe%20%E2%80%9EHallo%20Nachbar%21%E2%80%9C.%3C%2Fp%3E%0A%0A%0A%0A%3Cp
 %3EBegrenzte%20Teilnehmerzahl%2C%20um%20Anmeldung%20wird%20gebeten.%20Tel
 .%3A%200931%202605472.%3C%2Fp%3E%0A%0A%0A%0A%3Cp%3E%3Ca%20href%3D%22https
 %3A%2F%2Fwww.fraenkisches-weinland.de%2Fpoi%2Fsteinhauermuseum_im_histori
 sch-8049%22%3Ehttps%3A%2F%2Fwww.fraenkisches-weinland.de%2Fpoi%2Fsteinhau
 ermuseum_im_historisch-8049%3C%2Fa%3E%3C%2Fp%3E%0A%0A%0A%0A%3Cdiv%20style
 %3D%22height%3A53px%22%20aria-hidden%3D%22true%22%20class%3D%22wp-block-s
 pacer%22%3E%3C%2Fdiv%3E%0A%0A%0A%0A%3Cfigure%20class%3D%22wp-block-image%
 20size-full%22%3E%3Cimg%20src%3D%22https%3A%2F%2Fgruene-gerbrunn.de%2Fwp-
 content%2Fuploads%2Fsites%2F52%2F2026%2F03%2Fsharepic-Steinhauermuseum202
 6.jpg%22%20alt%3D%22%22%20class%3D%22wp-image-1269%22%20%2F%3E%3C%2Ffigur
 e%3E%0A":Besuch des Steinhauermuseums im historischen Mönchshof in Rande
 rsackerÜber Jahrhunderte hinweg prägte das Steinhauen Leben und Arbeit 
 der Menschen in unserer Nachbargemeinde Randersacker. Museumsführung mit
  Zunftleiter Ralf Kuhn in der Reihe „Hallo Nachbar!“.\n\nBegrenzte Te
 ilnehmerzahl\, um Anmeldung wird gebeten. Tel.: 0931 2605472.\n\nhttps://
 www.fraenkisches-weinland.de/poi/steinhauermuseum_im_historisch-8049
CLASS:PUBLIC
DTSTART;TZID=Europe/Berlin:20260503T110000
DTEND;TZID=Europe/Berlin:20260503T120000
DTSTAMP:20260423T115856
END:VEVENT
BEGIN:VEVENT
UID:7c847dbe2bf919fd6d0c76c1bde50072@gruene-gerbrunn.de
URL;VALUE=URI:https://gruene-gerbrunn.de/termine/offenes-treffen-gruene-g
 erbrunn/
LOCATION:bei Neco, Restaurant St. Kilian
SUMMARY:Offenes Treffen GRÜNE Gerbrunn
DESCRIPTION;ALTREP="data:text/html,%0A%3Cp%3ENeben%20den%20Mitgliedern%20
 sind%20alle%20interessierten%20B%C3%BCrgerinnen%20und%20B%C3%BCrger%20her
 zlich%20zum%20offenen%20Austausch%20in%20lockerer%20Runde%20eingeladen.%3
 C%2Fp%3E%0A%0A%0A%0A%3Cp%3E%3C%2Fp%3E%0A":Neben den Mitgliedern sind alle
  interessierten Bürgerinnen und Bürger herzlich zum offenen Austausch i
 n lockerer Runde eingeladen.
CLASS:PUBLIC
DTSTART;TZID=Europe/Berlin:20260505T190000
DTEND;TZID=Europe/Berlin:20260505T200000
DTSTAMP:20260423T115856
END:VEVENT
END:VCALENDAR