BEGIN:VCALENDAR
VERSION:2.0
PRODID:gruene-gerbrunn.de
METHOD:PUBLISH
BEGIN:VTIMEZONE
TZID:Europe/Berlin
X-LIC-LOCATION:Europe/Berlin
BEGIN:DAYLIGHT
TZOFFSETFROM:+0100
TZOFFSETTO:+0200
TZNAME:CEST
DTSTART:19700329T020000
RRULE:FREQ=YEARLY;INTERVAL=1;BYDAY=-1SU;BYMONTH=3
END:DAYLIGHT
BEGIN:STANDARD
TZOFFSETFROM:+0200
TZOFFSETTO:+0100
TZNAME:CET
DTSTART:19701025T030000
RRULE:FREQ=YEARLY;INTERVAL=1;BYDAY=-1SU;BYMONTH=10
END:STANDARD
END:VTIMEZONE
BEGIN:VEVENT
UID:914d9a13c58567951418583c8ebbe773@gruene-gerbrunn.de
URL;VALUE=URI:https://gruene-gerbrunn.de/termine/vom-narrengold-zum-stern
 -von-afrika-2/
LOCATION:Mineralogisches Museum, Würzburg
SUMMARY:Vom Narrengold zum Stern von Afrika
DESCRIPTION;ALTREP="data:text/html,%0A%3Cp%3E%E2%80%9EVom%20Narrengold%20
 zum%20Stern%20von%20Afrika%20%E2%80%93%20%3Cbr%3Eeine%20Einf%C3%BChrung%2
 0in%20die%20Vielfalt%20der%20Farben%20und%20Formen%20von%20Mineralen%E2%8
 0%9C.%20%3Cbr%3ESonderf%C3%BChrung%20durch%20das%20Mineralogische%20Museu
 m%20mit%20Leiterin%20Dr.%20Doroth%C3%A9e%20Kleinschrot%20aus%20Gerbrunn.%
 20%3Cbr%3EAnmeldung%20unter%20Tel.%3A%200931-260%205472%20oder%20info%40g
 ruene-gerbrunn.de%20%3Cbr%3EUnkostenbeitrag%3A%206%20%E2%82%AC%3C%2Fp%3E%
 0A%0A%0A%0A%3Cp%3E%3C%2Fp%3E%0A":„Vom Narrengold zum Stern von Afrika 
 – eine Einführung in die Vielfalt der Farben und Formen von Mineralen
 “. Sonderführung durch das Mineralogische Museum mit Leiterin Dr. Doro
 thée Kleinschrot aus Gerbrunn. Anmeldung unter Tel.: 0931-260 5472 oder 
 info@gruene-gerbrunn.de Unkostenbeitrag: 6 €
CLASS:PUBLIC
DTSTART;TZID=Europe/Berlin:20260122T173000
DTEND;TZID=Europe/Berlin:20260122T190000
DTSTAMP:20260425T104326
END:VEVENT
END:VCALENDAR