BEGIN:VCALENDAR
VERSION:2.0
PRODID:gruene-gerbrunn.de
METHOD:PUBLISH
BEGIN:VTIMEZONE
TZID:Europe/Berlin
X-LIC-LOCATION:Europe/Berlin
BEGIN:DAYLIGHT
TZOFFSETFROM:+0100
TZOFFSETTO:+0200
TZNAME:CEST
DTSTART:19700329T020000
RRULE:FREQ=YEARLY;INTERVAL=1;BYDAY=-1SU;BYMONTH=3
END:DAYLIGHT
BEGIN:STANDARD
TZOFFSETFROM:+0200
TZOFFSETTO:+0100
TZNAME:CET
DTSTART:19701025T030000
RRULE:FREQ=YEARLY;INTERVAL=1;BYDAY=-1SU;BYMONTH=10
END:STANDARD
END:VTIMEZONE
BEGIN:VEVENT
UID:00e6d0a15e3c0c4f8395bb05ddcd6d83@gruene-gerbrunn.de
URL;VALUE=URI:https://gruene-gerbrunn.de/termine/repaircafe-reparieren-st
 att-wegwerfen/
LOCATION:Mehrzweckhalle, Stefan-Krämer-Straße 22, Gerbrunn
SUMMARY:RepairCafe – Reparieren statt Wegwerfen – Mehrzweckhalle
DESCRIPTION;ALTREP="data:text/html,%0A%3Cp%3E%3Cstrong%3E%3Cmark%20style%
 3D%22background-color%3A%238ABD24%3Bcolor%3A%23cf2e2e%22%20class%3D%22has
 -inline-color%22%3E%2B%2B%2B%20Achtung%3A%20ge%C3%A4nderter%20Veranstaltu
 ngsort%20Mehrzweckhalle%20Gerbrunn%20%2B%2B%2B%3C%2Fmark%3E%3C%2Fstrong%3
 E%3C%2Fp%3E%0A%0A%0A%0A%3Cp%3EKommen%20Sie%20am%2021.%20M%C3%A4rz%20im%20
 Gerbrunner%20RepairCafe%20vorbei%3A%20mit%20defekten%20Dingen%20zum%20Rep
 arieren%2C%20f%C3%BCr%20den%20Fr%C3%BChjahrscheck%20Ihres%20Fahrrads%2C%2
 0Ausbesserungen%20an%20Kleidung%2C%20oder%20einfach%20auf%20einen%20Schwa
 tz%20bei%20Kaffee%20und%20selbstgebackenem%20Kuchen.%20Das%20Reparier-Tea
 m%20freut%20sich%20auf%20Sie.%3C%2Fp%3E%0A%0A%0A%0A%3Cp%3E14-17%20Uhr%2C%
 20Mehrzweckhalle%20Gerbrunn%3C%2Fp%3E%0A%0A%0A%0A%3Cfigure%20class%3D%22w
 p-block-image%20size-large%22%3E%3Cimg%20src%3D%22https%3A%2F%2Fgruene-ge
 rbrunn.de%2Fwp-content%2Fuploads%2Fsites%2F52%2F2026%2F02%2FRepairCafe-Ma
 r2026-MZH-709x1024.jpg%22%20alt%3D%22%22%20class%3D%22wp-image-1256%22%20
 %2F%3E%3C%2Ffigure%3E%0A":+++ Achtung: geänderter Veranstaltungsort Mehr
 zweckhalle Gerbrunn +++\n\nKommen Sie am 21. März im Gerbrunner RepairCa
 fe vorbei: mit defekten Dingen zum Reparieren\, für den Frühjahrscheck 
 Ihres Fahrrads\, Ausbesserungen an Kleidung\, oder einfach auf einen Schw
 atz bei Kaffee und selbstgebackenem Kuchen. Das Reparier-Team freut sich 
 auf Sie.\n\n14-17 Uhr\, Mehrzweckhalle Gerbrunn
CLASS:PUBLIC
DTSTART;TZID=Europe/Berlin:20260321T140000
DTEND;TZID=Europe/Berlin:20260321T170000
DTSTAMP:20260425T104442
END:VEVENT
END:VCALENDAR