BEGIN:VCALENDAR
VERSION:2.0
PRODID:gruene-gerbrunn.de
METHOD:PUBLISH
BEGIN:VTIMEZONE
TZID:Europe/Berlin
X-LIC-LOCATION:Europe/Berlin
BEGIN:DAYLIGHT
TZOFFSETFROM:+0100
TZOFFSETTO:+0200
TZNAME:CEST
DTSTART:19700329T020000
RRULE:FREQ=YEARLY;INTERVAL=1;BYDAY=-1SU;BYMONTH=3
END:DAYLIGHT
BEGIN:STANDARD
TZOFFSETFROM:+0200
TZOFFSETTO:+0100
TZNAME:CET
DTSTART:19701025T030000
RRULE:FREQ=YEARLY;INTERVAL=1;BYDAY=-1SU;BYMONTH=10
END:STANDARD
END:VTIMEZONE
BEGIN:VEVENT
UID:ee28e8941e95601bf087c6068f7e022f@gruene-gerbrunn.de
URL;VALUE=URI:https://gruene-gerbrunn.de/termine/putz-munter-2026/
LOCATION:Brunnen am Casteller Platz, Casteller Platz, Gerbrunn
SUMMARY:putz.munter 2026
DESCRIPTION;ALTREP="data:text/html,%0A%3Cp%3EFr%C3%BChjahrsputz%20in%20Ge
 rbrunn%3A%20Befreien%20wir%20unsere%20Umwelt%20und%20Natur%20gemeinsam%20
 von%20Abfall%20und%20M%C3%BCll.%20%3C%2Fp%3E%0A%0A%0A%0A%3Cp%3EHier%20der
 %20Bericht%20unserer%20Sammelaktion%20vom%20letzten%20Jahr%3A%20%3C%2Fp%3
 E%0A%0A%0A%0A%3Cp%3E%3Ca%20href%3D%22https%3A%2F%2Fgruene-gerbrunn.de%2Fp
 utz-munter-2025%2F%22%3Ehttps%3A%2F%2Fgruene-gerbrunn.de%2Fputz-munter-20
 25%2F%3C%2Fa%3E%3C%2Fp%3E%0A":Frühjahrsputz in Gerbrunn: Befreien wir un
 sere Umwelt und Natur gemeinsam von Abfall und Müll.\n\nHier der Bericht
  unserer Sammelaktion vom letzten Jahr:\n\nhttps://gruene-gerbrunn.de/put
 z-munter-2025/
CLASS:PUBLIC
DTSTART;TZID=Europe/Berlin:20260228T100000
DTEND;TZID=Europe/Berlin:20260228T130000
DTSTAMP:20260425T101724
END:VEVENT
END:VCALENDAR