BEGIN:VCALENDAR
VERSION:2.0
PRODID:gruene-gerbrunn.de
METHOD:PUBLISH
BEGIN:VTIMEZONE
TZID:Europe/Berlin
X-LIC-LOCATION:Europe/Berlin
BEGIN:DAYLIGHT
TZOFFSETFROM:+0100
TZOFFSETTO:+0200
TZNAME:CEST
DTSTART:19700329T020000
RRULE:FREQ=YEARLY;INTERVAL=1;BYDAY=-1SU;BYMONTH=3
END:DAYLIGHT
BEGIN:STANDARD
TZOFFSETFROM:+0200
TZOFFSETTO:+0100
TZNAME:CET
DTSTART:19701025T030000
RRULE:FREQ=YEARLY;INTERVAL=1;BYDAY=-1SU;BYMONTH=10
END:STANDARD
END:VTIMEZONE
BEGIN:VEVENT
UID:013521b7b6cebe49178e49983b5d8e46@gruene-gerbrunn.de
URL;VALUE=URI:https://gruene-gerbrunn.de/termine/hallo-nachbar-besuch-der
 -wagner-sicherheitstechnik-ag/
LOCATION:Wagner Sicherheitstechnik, Käthe-Kollwitz-Straße 3, Gerbrunn
SUMMARY:„Hallo Nachbar“ – Besuch der WAGNER Sicherheitstechnik AG
DESCRIPTION;ALTREP="data:text/html,%0A%3Cp%3EUnsere%20Erkundungstour%20ge
 ht%20weiter%3A%20Am%2019.%20M%C3%A4rz%20von%2017%3A30%20Uhr%20bis%2019%3A
 00%20lernen%20wir%20die%20WAGNER%20Sicherheitstechnik%20AG%20am%20Gerbrun
 ner%20Kirschberg%20kennen.%20Das%20Unternehmen%20ist%20bereits%20seit%201
 956%20auf%20dem%20Markt%20und%20inzwischen%20einer%20der%20gr%C3%B6%C3%9F
 ten%20Onlineshops%20in%20Sachen%20Sicherheit.%3C%2Fp%3E%0A%0A%0A%0A%3Cp%3
 EIm%20Rahmen%20der%20Besichtigung%20gibt%20uns%20Simon%20Wagner%20im%20Si
 cherheitscenter%20der%20Firma%20wertvolle%20Tipps%20in%20Sachen%20h%C3%A4
 usliche%20Sicherheit%20und%20Tresore%20%28%E2%80%9EVom%20Geldverstecken%2
 0zum%20sicheren%20Safe%E2%80%9C%29.%20Im%20Anschluss%20sind%20alle%20G%C3
 %A4ste%20zu%20einem%20kleinen%20Imbiss%20mit%20Getr%C3%A4nken%20eingelade
 n.%20%3C%2Fp%3E%0A%0A%0A%0A%3Cp%3EAus%20organisatorischen%20Gr%C3%BCnden%
 20bitten%20wir%20um%20Anmeldung%20unter%20info%40gruene-gerbrunn.de%20ode
 r%C2%A0%200931-260%205472.%3C%2Fp%3E%0A%0A%0A%0A%3Cfigure%20class%3D%22wp
 -block-image%20size-large%22%3E%3Cimg%20src%3D%22https%3A%2F%2Fgruene-ger
 brunn.de%2Fwp-content%2Fuploads%2Fsites%2F52%2F2026%2F02%2FWagner-Sicherh
 eitstechnik-1024x702.png%22%20alt%3D%22%22%20class%3D%22wp-image-1210%22%
 20%2F%3E%3Cfigcaption%3EFoto%3A%20Simon%20Wagner%3C%2Ffigcaption%3E%3C%2F
 figure%3E%0A":Unsere Erkundungstour geht weiter: Am 19. März von 17:30 U
 hr bis 19:00 lernen wir die WAGNER Sicherheitstechnik AG am Gerbrunner Ki
 rschberg kennen. Das Unternehmen ist bereits seit 1956 auf dem Markt und 
 inzwischen einer der größten Onlineshops in Sachen Sicherheit.\n\nIm Ra
 hmen der Besichtigung gibt uns Simon Wagner im Sicherheitscenter der Firm
 a wertvolle Tipps in Sachen häusliche Sicherheit und Tresore („Vom Gel
 dverstecken zum sicheren Safe“). Im Anschluss sind alle Gäste zu einem
  kleinen Imbiss mit Getränken eingeladen.\n\nAus organisatorischen Grün
 den bitten wir um Anmeldung unter info@gruene-gerbrunn.de oder  0931-260
  5472.\n\nFoto: Simon Wagner
CLASS:PUBLIC
DTSTART;TZID=Europe/Berlin:20260319T173000
DTEND;TZID=Europe/Berlin:20260319T190000
DTSTAMP:20260425T104132
END:VEVENT
END:VCALENDAR