BEGIN:VCALENDAR
VERSION:2.0
PRODID:gruene-gerbrunn.de
METHOD:PUBLISH
BEGIN:VTIMEZONE
TZID:Europe/Berlin
X-LIC-LOCATION:Europe/Berlin
BEGIN:DAYLIGHT
TZOFFSETFROM:+0100
TZOFFSETTO:+0200
TZNAME:CEST
DTSTART:19700329T020000
RRULE:FREQ=YEARLY;INTERVAL=1;BYDAY=-1SU;BYMONTH=3
END:DAYLIGHT
BEGIN:STANDARD
TZOFFSETFROM:+0200
TZOFFSETTO:+0100
TZNAME:CET
DTSTART:19701025T030000
RRULE:FREQ=YEARLY;INTERVAL=1;BYDAY=-1SU;BYMONTH=10
END:STANDARD
END:VTIMEZONE
BEGIN:VEVENT
UID:dcf2c35896dc09c06b2c4f432cb2fc91@gruene-gerbrunn.de
URL;VALUE=URI:https://gruene-gerbrunn.de/termine/gruener-infostand-alte-g
 asse/
LOCATION:Parkplatz Alte Gasse, Alte Gasse 5, Gerbrunn
SUMMARY:Grüner Infostand Alte Gasse
DESCRIPTION;ALTREP="data:text/html,%0A%3Cp%3EInfostand%20der%20GR%C3%9CNE
 N%20Gerbrunn%20vor%20der%20B%C3%A4ckerei%20Peter%20Schmitt%20in%20der%20A
 lten%20Gasse.%20Kommen%20Sie%20vorbei%20und%20lernen%20Sie%20unseren%20B%
 C3%BCrgermeisterkandidaten%20Ilyas%20Aldogan%20und%20unsere%20Gemeinderat
 skandidierenden%20kennen.%3C%2Fp%3E%0A%0A%0A%0A%3Cp%3E%3C%2Fp%3E%0A":Info
 stand der GRÜNEN Gerbrunn vor der Bäckerei Peter Schmitt in der Alten G
 asse. Kommen Sie vorbei und lernen Sie unseren Bürgermeisterkandidaten I
 lyas Aldogan und unsere Gemeinderatskandidierenden kennen.
CLASS:PUBLIC
DTSTART;TZID=Europe/Berlin:20260131T080000
DTEND;TZID=Europe/Berlin:20260131T110000
DTSTAMP:20260425T101742
END:VEVENT
END:VCALENDAR