BEGIN:VCALENDAR
VERSION:2.0
PRODID:gruene-gerbrunn.de
METHOD:PUBLISH
BEGIN:VTIMEZONE
TZID:Europe/Berlin
X-LIC-LOCATION:Europe/Berlin
BEGIN:DAYLIGHT
TZOFFSETFROM:+0100
TZOFFSETTO:+0200
TZNAME:CEST
DTSTART:19700329T020000
RRULE:FREQ=YEARLY;INTERVAL=1;BYDAY=-1SU;BYMONTH=3
END:DAYLIGHT
BEGIN:STANDARD
TZOFFSETFROM:+0200
TZOFFSETTO:+0100
TZNAME:CET
DTSTART:19701025T030000
RRULE:FREQ=YEARLY;INTERVAL=1;BYDAY=-1SU;BYMONTH=10
END:STANDARD
END:VTIMEZONE
BEGIN:VEVENT
UID:47435e5a7f090aa785543d163e56089f@gruene-gerbrunn.de
URL;VALUE=URI:https://gruene-gerbrunn.de/termine/823/
LOCATION:am Froschteich, Gerbrunn
SUMMARY:Wunsch-Punsch am Froschteich
DESCRIPTION;ALTREP="data:text/html,%0A%3Cp%3EDie%20Gr%C3%BCnen%20laden%20
 ein%3A%20Wie%20soll%20sich%20Gerbrunn%20weiterentwickeln%3F%20Kommen%20Si
 e%20mit%20uns%20und%20unseren%20Kandidat%3Ainnen%20bei%20einer%20Tasse%20
 Punsch%20ins%20Gespr%C3%A4ch.%20Wir%20freuen%20uns%20auf%20Sie.%3C%2Fp%3E
 %0A%0A%0A%0A%3Cp%3E%3C%2Fp%3E%0A%0A%0A%0A%3Cp%3E%3C%2Fp%3E%0A":Die Grüne
 n laden ein: Wie soll sich Gerbrunn weiterentwickeln? Kommen Sie mit uns 
 und unseren Kandidat:innen bei einer Tasse Punsch ins Gespräch. Wir freu
 en uns auf Sie.
CLASS:PUBLIC
DTSTART;TZID=Europe/Berlin:20260104T140000
DTEND;TZID=Europe/Berlin:20260104T160000
DTSTAMP:20260425T101724
END:VEVENT
END:VCALENDAR